BEGIN:VCALENDAR
VERSION:2.0
PRODID:-//AudioTheme 1.6.3
BEGIN:VEVENT
UID:http://yanndubost.com/?post_type=audiotheme_gig&#038;p=1025
URL:https://yanndubost.com/shows/tango-avec-pascal-contet/
DTSTART;TZID=GMT:20230516T000000
SUMMARY:Tango avec Pascal Contet
DESCRIPTION:Pascal Contet & quatuor Strada
LOCATION:Cathédrale Saint-Louis des Invalides\, 129 rue de Grenelle\, Paris\, \, 75007
END:VEVENT
END:VCALENDAR