BEGIN:VCALENDAR
VERSION:2.0
PRODID:-//AudioTheme 1.6.3
BEGIN:VEVENT
UID:http://yanndubost.com/?post_type=audiotheme_gig&#038;p=1009
URL:https://yanndubost.com/shows/talent-summer-courses-brescia/
DTSTART;TZID=GMT:20230814T000000
SUMMARY:Talent Summer Courses - Brescia
DESCRIPTION:Double bass academy (14-19th of August)
LOCATION:Talent Summer Courses - Brescia\, Via Gasparo da Salo 13\, Brescia (IT)\, 
END:VEVENT
END:VCALENDAR