BEGIN:VCALENDAR
VERSION:2.0
PRODID:-//AudioTheme 1.6.3
BEGIN:VEVENT
UID:http://yanndubost.com/?post_type=audiotheme_gig&#038;p=1004
URL:https://yanndubost.com/shows/don-quixote-3/
DTSTART;TZID=GMT:20230212T000000
SUMMARY:Don Quixote
DESCRIPTION:Strauss\, Don Quixote (arr. Arthur Lavandier)\, avec E. Jenicot\, Y. Levionnois\, L. Hennino\, G. Bellom\, R. Théry & Ensemble Ouranos
LOCATION:Théâtre des Champs Elysées\, 15 avenue Montaigne\, Paris\, \, 75008
END:VEVENT
END:VCALENDAR